BEGIN:VCALENDAR
VERSION:2.0
PRODID:-//Emsworth Museum - ECPv6.15.20//NONSGML v1.0//EN
CALSCALE:GREGORIAN
METHOD:PUBLISH
X-ORIGINAL-URL:https://emsworthmuseum.org.uk
X-WR-CALDESC:Events for Emsworth Museum
REFRESH-INTERVAL;VALUE=DURATION:PT1H
X-Robots-Tag:noindex
X-PUBLISHED-TTL:PT1H
BEGIN:VTIMEZONE
TZID:Europe/London
BEGIN:DAYLIGHT
TZOFFSETFROM:+0000
TZOFFSETTO:+0100
TZNAME:BST
DTSTART:20250330T010000
END:DAYLIGHT
BEGIN:STANDARD
TZOFFSETFROM:+0100
TZOFFSETTO:+0000
TZNAME:GMT
DTSTART:20251026T010000
END:STANDARD
BEGIN:DAYLIGHT
TZOFFSETFROM:+0000
TZOFFSETTO:+0100
TZNAME:BST
DTSTART:20260329T010000
END:DAYLIGHT
BEGIN:STANDARD
TZOFFSETFROM:+0100
TZOFFSETTO:+0000
TZNAME:GMT
DTSTART:20261025T010000
END:STANDARD
BEGIN:DAYLIGHT
TZOFFSETFROM:+0000
TZOFFSETTO:+0100
TZNAME:BST
DTSTART:20270328T010000
END:DAYLIGHT
BEGIN:STANDARD
TZOFFSETFROM:+0100
TZOFFSETTO:+0000
TZNAME:GMT
DTSTART:20271031T010000
END:STANDARD
END:VTIMEZONE
BEGIN:VEVENT
DTSTART;TZID=Europe/London:20260530T103000
DTEND;TZID=Europe/London:20260712T163000
DTSTAMP:20260422T232815
CREATED:20260323T113833Z
LAST-MODIFIED:20260323T115906Z
UID:3581-1780137000-1783873800@emsworthmuseum.org.uk
SUMMARY:Exhibition - Emsworth Memorial Garden
DESCRIPTION:The memorial garden\, within the footprint of Emsworth Recreation Ground\, celebrates its 20th anniversary this year. This exhibition explores its origins and the lives of those it remembers. \n\n\n\n\n\nRemembrance Day 2024 at the Emsworth Memorial Garden
URL:https://emsworthmuseum.org.uk/event/exhibition-emsworth-memorial-garden/
LOCATION:Emsworth Museum\, 10b North Street\, Emsworth\, Hampshire\, PO10 7DD\, United Kingdom
CATEGORIES:Events,Exhibitions
ATTACH;FMTTYPE=image/jpeg:https://emsworthmuseum.org.uk/wp-content/uploads/2026/03/REMEMBERENCE-DAY-2024.jpg
END:VEVENT
BEGIN:VEVENT
DTSTART;TZID=Europe/London:20260718T103000
DTEND;TZID=Europe/London:20260830T163000
DTSTAMP:20260422T232815
CREATED:20260323T115053Z
LAST-MODIFIED:20260323T115055Z
UID:3585-1784370600-1788107400@emsworthmuseum.org.uk
SUMMARY:Exhibition - Nore Barn Woods
DESCRIPTION:Nore Barn Woods is an attractive area of public open space in Emsworth\, adjacent to the shore of Chichester Harbour. This exhibition explores its flora and fauna\, and the work that the Friends of Nore Barn Woods have done to protect and enhance the area for everyone. \n\n\n\nNore Barn Woods
URL:https://emsworthmuseum.org.uk/event/exhibition-nore-barn-woods/
LOCATION:Emsworth Museum\, 10b North Street\, Emsworth\, Hampshire\, PO10 7DD\, United Kingdom
CATEGORIES:Events,Exhibitions
ATTACH;FMTTYPE=image/jpeg:https://emsworthmuseum.org.uk/wp-content/uploads/2026/03/Nore-Barn-Woods.jpg
END:VEVENT
BEGIN:VEVENT
DTSTART;TZID=Europe/London:20260805T181500
DTEND;TZID=Europe/London:20260805T200000
DTSTAMP:20260422T232815
CREATED:20260204T142923Z
LAST-MODIFIED:20260204T144242Z
UID:3551-1785953700-1785960000@emsworthmuseum.org.uk
SUMMARY:Walk – August Evening Walk led by Nigel Brown
DESCRIPTION:Where: Guided 1½ to 2-hour walks looking at the history of Emsworth \n\n\n\nWhen: Wednesday evenings on June 3\, July 1\, August 5 and September 2 \n\n\n\nCost: £5 per head \n\n\n\nMeet: at Emsworth Museum in North Street by 6.15 pm. If possible please book in advance but your walk can be paid for on the evening. Please email walks@emsworthmuseum.org.uk to book a place. Numbers are limited to 12 so that stories can be shared more easily.
URL:https://emsworthmuseum.org.uk/event/walk-august-evening-walk-led-by-nigel-brown-2/
LOCATION:Emsworth Museum\, 10b North Street\, Emsworth\, Hampshire\, PO10 7DD\, United Kingdom
CATEGORIES:Events,Walks
ATTACH;FMTTYPE=image/jpeg:https://emsworthmuseum.org.uk/wp-content/uploads/2026/02/IMG_6824-scaled.jpg
ORGANIZER;CN="Nigel Brown":MAILTO:walks@emsworthmuseum.org.uk
END:VEVENT
BEGIN:VEVENT
DTSTART;TZID=Europe/London:20260902T181500
DTEND;TZID=Europe/London:20260902T200000
DTSTAMP:20260422T232815
CREATED:20260204T144127Z
LAST-MODIFIED:20260204T144128Z
UID:3556-1788372900-1788379200@emsworthmuseum.org.uk
SUMMARY:Walk – September Evening Walk led by Nigel Brown
DESCRIPTION:Where: Guided 1½ to 2-hour walks looking at the history of Emsworth \n\n\n\nWhen: Wednesday evenings on June 3\, July 1\, August 5 and September 2 \n\n\n\nCost: £5 per head \n\n\n\nMeet: at Emsworth Museum in North Street by 6.15 pm. If possible\, please book in advance but your walk can be paid for on the evening. Please email walks@emsworthmuseum.org.uk to book a place. Numbers are limited to 12 so that stories can be shared more easily. \n\n\n\n\n\nEmsworth Town Centre
URL:https://emsworthmuseum.org.uk/event/walk-september-evening-walk-led-by-nigel-brown/
LOCATION:Emsworth Museum\, 10b North Street\, Emsworth\, Hampshire\, PO10 7DD\, United Kingdom
CATEGORIES:Events,Walks
ATTACH;FMTTYPE=image/jpeg:https://emsworthmuseum.org.uk/wp-content/uploads/2026/02/Emsworth-Town-Centre-1.jpg
ORGANIZER;CN="Nigel Brown":MAILTO:walks@emsworthmuseum.org.uk
END:VEVENT
END:VCALENDAR