BEGIN:VCALENDAR
VERSION:2.0
PRODID:-//Emsworth Museum - ECPv6.15.20//NONSGML v1.0//EN
CALSCALE:GREGORIAN
METHOD:PUBLISH
X-WR-CALNAME:Emsworth Museum
X-ORIGINAL-URL:https://emsworthmuseum.org.uk
X-WR-CALDESC:Events for Emsworth Museum
REFRESH-INTERVAL;VALUE=DURATION:PT1H
X-Robots-Tag:noindex
X-PUBLISHED-TTL:PT1H
BEGIN:VTIMEZONE
TZID:Europe/London
BEGIN:DAYLIGHT
TZOFFSETFROM:+0000
TZOFFSETTO:+0100
TZNAME:BST
DTSTART:20210328T010000
END:DAYLIGHT
BEGIN:STANDARD
TZOFFSETFROM:+0100
TZOFFSETTO:+0000
TZNAME:GMT
DTSTART:20211031T010000
END:STANDARD
BEGIN:DAYLIGHT
TZOFFSETFROM:+0000
TZOFFSETTO:+0100
TZNAME:BST
DTSTART:20220327T010000
END:DAYLIGHT
BEGIN:STANDARD
TZOFFSETFROM:+0100
TZOFFSETTO:+0000
TZNAME:GMT
DTSTART:20221030T010000
END:STANDARD
BEGIN:DAYLIGHT
TZOFFSETFROM:+0000
TZOFFSETTO:+0100
TZNAME:BST
DTSTART:20230326T010000
END:DAYLIGHT
BEGIN:STANDARD
TZOFFSETFROM:+0100
TZOFFSETTO:+0000
TZNAME:GMT
DTSTART:20231029T010000
END:STANDARD
BEGIN:DAYLIGHT
TZOFFSETFROM:+0000
TZOFFSETTO:+0100
TZNAME:BST
DTSTART:20240331T010000
END:DAYLIGHT
BEGIN:STANDARD
TZOFFSETFROM:+0100
TZOFFSETTO:+0000
TZNAME:GMT
DTSTART:20241027T010000
END:STANDARD
END:VTIMEZONE
BEGIN:VEVENT
DTSTART;TZID=Europe/London:20231102T193000
DTEND;TZID=Europe/London:20231102T210000
DTSTAMP:20260422T233626
CREATED:20230704T114333Z
LAST-MODIFIED:20231028T093328Z
UID:1828-1698953400-1698958800@emsworthmuseum.org.uk
SUMMARY:Talk - Women in the Law and Life of an Old Bailey Judge
DESCRIPTION:Low angle view of the grand\, imposing bronze statue of Lady Justice\, sitting atop a dome on London’s Central Criminal Court\, which is more popularly known as the Old Bailey. Bathed in Springtime sunshine\, she grasps in her right hand a sword\, whilst in her left she holds the scales of Justice.\n\n\n\nHer Honour Judge Sarah Munro KC. \n\n\n\nIn 2016\, Judge Sarah Munro became a Senior Circuit Judge at the Central Criminal Court (the Old Bailey) trying serious cases frequently involving murder trials.   Judge Munro will talk about her career as a lawyer for the last forty years and her work at the Old Bailey. \n\n\n\nHHJ Sarah Munro KC. \n\n\n\nHHJ Sarah Munro KC practised as a barrister in the southwest and became a QC in 2002 and a Judge in 2011. In 2016 she became one of only 30 Senior Circuit Judges and one of 15 at the Old Bailey. On Thursday 28 July 2022\, Judge Sarah Munro QCs made UK legal history in delivering the first televised\, broadcast life sentence at the Old Bailey. \n\n\n\nTickets: You must book a ticket in advance to be sure of entry. Tickets are available for £5 each only from Bookends\, 7 High Street\, Emsworth\, PO10 7AQ. Seats are unreserved.
URL:https://emsworthmuseum.org.uk/event/women-in-the-law-and-life-of-an-old-bailey-judge/
LOCATION:Emsworth Community Centre\, North Street\, Emsworth\, Hampshire\, PO10 7DD\, United Kingdom
CATEGORIES:Events,Talks
ATTACH;FMTTYPE=image/jpeg:https://emsworthmuseum.org.uk/wp-content/uploads/2023/07/Old-Bailey.jpg
END:VEVENT
BEGIN:VEVENT
DTSTART;TZID=Europe/London:20231005T193000
DTEND;TZID=Europe/London:20231005T210000
DTSTAMP:20260422T233626
CREATED:20230704T113613Z
LAST-MODIFIED:20231028T093635Z
UID:1825-1696534200-1696539600@emsworthmuseum.org.uk
SUMMARY:Talk - The Mystery of the Haberdasher’s Scissors
DESCRIPTION:Presented by Alison Habens and Matt Wingett \n\n\n\n\n\n\n\nWriters and researchers\, Alison Habens and Matt Wingett\, claim to have discovered an extraordinary fact: three famous literary figures of the 19th Century\, H.G.Wells\, Arthur Conan Doyle and Rudyard Kipling met each other in the early 1880s\, in the Old Drapery Bazaar\, Hide’s Emporium\, on King’s Road in Southsea. Even more amazing\, they were involved in a dark mystery that might have come straight from one of their own stories. Hear it unfold\, through a series of extracts from their autobiographies\, solve a few clues yourself – and work out where the boundary between true history and pure invention sits. \n\n\n\nAlison Habens \n\n\n\nAlison is best known for her novels Dreamhouse\, Lifestory and The True Picture.  She is a lecturer in creative writing at the University of Portsmouth and leads the Portsmouth Writers Hub; a community interest company that brings University writers and writing groups together. \n\n\n\nMatt Wingett \n\n\n\nMatt Wingett is the publisher\, editor\, designer\, local historian rare book dealer and general dog’s body of Life Is Amazing\, dedicated to publishing books.  He has always been interested in writing\, having started his first story when he was six years old. At various times since then\, he has looked back\, wondered what the hell he was doing spending so much time writing instead of having a life\, given up\, taught English in Egypt\, came back again\, ran a computer company and a successful rare book dealership – and finally thrown up his hands in defeat and said: “I give up! I can’t help writing\, so I’ll have to just get on with it.” \n\n\n\nTickets: You must book a ticket in advance to be sure of entry. Tickets are available for £5 each only from Bookends\, 7 High Street\, Emsworth\, PO10 7AQ. Seats are unreserved.
URL:https://emsworthmuseum.org.uk/event/the-mystery-of-the-haberdashers-scissors/
LOCATION:Emsworth Community Centre\, North Street\, Emsworth\, Hampshire\, PO10 7DD\, United Kingdom
CATEGORIES:Events,Talks
ATTACH;FMTTYPE=image/png:https://emsworthmuseum.org.uk/wp-content/uploads/2023/07/image.png
END:VEVENT
BEGIN:VEVENT
DTSTART;TZID=Europe/London:20230902T113000
DTEND;TZID=Europe/London:20231029T163000
DTSTAMP:20260422T233626
CREATED:20230514T210435Z
LAST-MODIFIED:20231028T093936Z
UID:1249-1693654200-1698597000@emsworthmuseum.org.uk
SUMMARY:Exhibition - Ripping Yarns and the Tale of the Forgotten Author – The Story of Percy F. Westerman
DESCRIPTION:An exhibition charting the life and works of Percy F. Westerman\, one of Britain’s most prolific writers of children’s adventure books is coming to Emsworth Museum.  The exhibition\, which opens on September 2nd\, 2023\, includes books and ephemera from the Westerman Yarns Collection\, belonging to Nigel Gossop who has been collecting and researching the books and life of the Portsmouth born author for more than thirty years.  \n\n\n\nPercy F. Westerman knew Emsworth well; for many years he was a familiar sight out on the water\, participating in various sailing regattas and events.  Before he embarked on his career as a writer of books for children\, he wrote extensively of his sailing experiences for the popular yachting press and in 1905 was a founder member of the Fareham Sailing Club. \n\n\n\nThe Ripping Yarns: and the Tale of the Forgotten Author exhibition was last shown at Emsworth Museum in April 2014\, but since then there are some additional panels that explore some of the 30 books written by Westerman about the First World War; many written and published while the conflict was still being fought. \n\n\n\nDuring the 1930’s Percy F. Westerman was voted Britain’s most popular children’s writer in a national poll organised through public libraries and was featured in a Pathé Newsreel film and shown in cinemas.  By the time of his death in 1959 he had written more than 170 books and numerous short stories and serials for magazines that included The Boy’s Own Paper and The Scout.   One of the features of the Ripping Yarns exhibition is the range and scope of the cover and dust wrapper illustrations designed to attract generations of young readers to pick the books off the shelves. Famous artists including Terrance Cuneo and Rowland Hilder were among more than 60 artists/illustrators whose work helped to bring Westerman’s words to life.  The exhibition curator\, Nigel Gossop of the Westerman Yarns will be in attendance during the opening morning and will happy to meet and discuss any aspect of the exhibition.
URL:https://emsworthmuseum.org.uk/event/ripping-yarns-exhibition/
LOCATION:Emsworth Museum\, 10b North Street\, Emsworth\, Hampshire\, PO10 7DD\, United Kingdom
CATEGORIES:Events,Exhibitions
ATTACH;FMTTYPE=image/jpeg:https://emsworthmuseum.org.uk/wp-content/uploads/2023/05/Westerman.jpg
END:VEVENT
BEGIN:VEVENT
DTSTART;TZID=Europe/London:20230825T113000
DTEND;TZID=Europe/London:20230828T173000
DTSTAMP:20260422T233626
CREATED:20210930T204505Z
LAST-MODIFIED:20231028T101549Z
UID:1247-1692963000-1693243800@emsworthmuseum.org.uk
SUMMARY:Exhibition - Past and Present Visual Marks
DESCRIPTION:Exhibition “Past and Present Visual Marks” by Elizabeth Saunders / Visual Marks Textile Group
URL:https://emsworthmuseum.org.uk/event/past-and-present-visual-marks/
LOCATION:Emsworth Museum\, 10b North Street\, Emsworth\, Hampshire\, PO10 7DD\, United Kingdom
CATEGORIES:Events,Exhibitions
ATTACH;FMTTYPE=image/jpeg:https://emsworthmuseum.org.uk/wp-content/uploads/2023/05/Visual-Marks-Collage-image-from-Elizabeth-Saunders-July-2022.jpg
END:VEVENT
BEGIN:VEVENT
DTSTART;TZID=Europe/London:20230729T120000
DTEND;TZID=Europe/London:20230730T170000
DTSTAMP:20260422T233626
CREATED:20210930T190513Z
LAST-MODIFIED:20231028T102320Z
UID:1231-1690632000-1690736400@emsworthmuseum.org.uk
SUMMARY:Demonstration - Rope Making
DESCRIPTION:Members of Emsworth Museum demonstrate rope making using a rope walk.\n\n\n\n\n\n\n\n\n\n\n\nRope making was a thriving industry in Emsworth for more than 200 years. Christopher Day is recorded as having a rope making business here in 1714. The manufacture of cordage was a profitable concern in the days of wooden ships and sail but sadly no industrial rope making exists in the town today. The industry dwindled in the period between the two world wars.Before he died Bob Lewis\, son of John Lewis of Carter Sons and Lewis\, gifted a rope making jack to the museum and over the winter of 2021/2022 Trevor Davies\, helped by the staff at Bridport Museum\, designed a small rope making walk for Emsworth Museum. Although on a very small scale it is an indication of how the 200 metres Emsworth rope walk that ran parallel to the Slipper Millpond from the Sussex Brewery pub to the Slipper Mill would have looked.Rope making Demonstrations will be at the following times: \n\n\n\n\nSaturday July 29th: 11:00 AM; 12:00 AM; 1:00 PM; 2:00 PM; 3:00 PM and 4:00 PM\n\n\n\nSunday July 30th: 2:00 PM; 3:00 PM and 4:00 PM\n\n\n\n\nThe rope making demonstrations that were held during the weekend of 2nd/3rd July 2022 were very successful and are being repeated on 29th/30th July this year.
URL:https://emsworthmuseum.org.uk/event/rope-making-demonstration/
LOCATION:Emsworth Museum\, 10b North Street\, Emsworth\, Hampshire\, PO10 7DD\, United Kingdom
CATEGORIES:Demonstrations,Events
ATTACH;FMTTYPE=image/jpeg:https://emsworthmuseum.org.uk/wp-content/uploads/2021/09/DSC01823-scaled.jpeg
END:VEVENT
BEGIN:VEVENT
DTSTART;TZID=Europe/London:20230708T113000
DTEND;TZID=Europe/London:20230820T173000
DTSTAMP:20260422T233626
CREATED:20210913T204411Z
LAST-MODIFIED:20231028T102504Z
UID:1059-1688815800-1692552600@emsworthmuseum.org.uk
SUMMARY:Exhibition - Extreme Weather (1963 and 1987)
DESCRIPTION:Photographs from the Museum collection and also from Bernie Gudge’s own albums show the effects of the 1963 long cold winter that started on New Year’s Eve in 1962 and lasted until the following March with rivers\, ponds and the harbour frozen. \n\n\n\nAlso on display will be pictures of the devastation and damage caused by the great storm in 1987. \n\n\n\nPhoto caption: Beached yachts at Emsworth following the great storm in 1987
URL:https://emsworthmuseum.org.uk/event/extreme-weather/
LOCATION:Emsworth Museum\, 10b North Street\, Emsworth\, Hampshire\, PO10 7DD\, United Kingdom
CATEGORIES:Events,Exhibitions
ATTACH;FMTTYPE=image/jpeg:https://emsworthmuseum.org.uk/wp-content/uploads/2023/05/Beached-yachts-at-Emsworth-1987.jpg
END:VEVENT
BEGIN:VEVENT
DTSTART;TZID=Europe/London:20230621T190000
DTEND;TZID=Europe/London:20230621T203000
DTSTAMP:20260422T233626
CREATED:20230521T223008Z
LAST-MODIFIED:20230830T135035Z
UID:1733-1687374000-1687379400@emsworthmuseum.org.uk
SUMMARY:Treasure Hunt
DESCRIPTION:After a break of several years\, due principally to the pandemic\, the annual Treasure Hunt will return on Wednesday 21st June 2023\, starting around 7.00pm. Teams of 1-4 pedestrians will follow a route round Emsworth\, guided by written instructions. There will be a number of questions to be answered on the way. The winning team will be awarded with a modest prize and asked to compile the route and questions for next year (but not obligatory). Open to all families\, groups\, couples and individuals (who must have a unique team name!) There will be refreshments. \n\n\n\nPlease bring £5 cash per person; concessions for young teams (guides\, scouts\, etc.)
URL:https://emsworthmuseum.org.uk/event/treasure-hunt/
LOCATION:Emsworth Museum\, 10b North Street\, Emsworth\, Hampshire\, PO10 7DD\, United Kingdom
CATEGORIES:Events,Treasure Hunt
ATTACH;FMTTYPE=image/jpeg:https://emsworthmuseum.org.uk/wp-content/uploads/2023/05/Emsworth-Town-Centre.jpg
END:VEVENT
BEGIN:VEVENT
DTSTART;TZID=Europe/London:20230607T181500
DTEND;TZID=Europe/London:20230607T201500
DTSTAMP:20260422T233626
CREATED:20230516T051104Z
LAST-MODIFIED:20231028T102634Z
UID:1541-1686161700-1686168900@emsworthmuseum.org.uk
SUMMARY:Emsworth Museum Walks
DESCRIPTION:Summer Walks \n\n\n\nWhere: Guided 1½ to 2 hour walks looking at the history of Emsworth \n\n\n\nWhen: Wednesday evenings 7th June\, 5th July and 9th August \n\n\n\nCost: £5 per head \n\n\n\nMeet: at Emsworth Museum in North Street by 6.15 pm. Walks must be booked in advance but can be paid for on the evening. Please email walks@emsworthmuseum.org.uk to book a place. Numbers are limited to 12 so that stories can be shared more easily.
URL:https://emsworthmuseum.org.uk/event/emsworth-museum-walks/
LOCATION:Emsworth Museum\, 10b North Street\, Emsworth\, Hampshire\, PO10 7DD\, United Kingdom
CATEGORIES:Events,Walks
ATTACH;FMTTYPE=image/jpeg:https://emsworthmuseum.org.uk/wp-content/uploads/2023/05/Walks-Picture-2023.jpg
END:VEVENT
BEGIN:VEVENT
DTSTART;TZID=Europe/London:20230527T103000
DTEND;TZID=Europe/London:20230702T163000
DTSTAMP:20260422T233626
CREATED:20230514T203422Z
LAST-MODIFIED:20231028T102753Z
UID:1399-1685183400-1688315400@emsworthmuseum.org.uk
SUMMARY:Exhibition - Coastal Archaeology (Archaeology on the Coastal Plain)
DESCRIPTION:The increasingly extreme weather is eroding our coastline revealing features of historic interest which are then swept away. Chichester and District Archaeology Society runs regular monitoring programmes to record these changes. This exhibition looks at some of the revealed features (Bronze Age to Tudor) as well as outcomes from other projects that CDAS has undertaken on the coastal plain. The Roman Villa at Warblington continues to have its own cabinet in the Main Room of Emsworth Museum. Photo caption: Wooden structure\, possibly a fish trap\, exposed at Medmerry
URL:https://emsworthmuseum.org.uk/event/coastal-archaeology-archaeology-on-the-coastal-plain/
LOCATION:Emsworth Museum\, 10b North Street\, Emsworth\, Hampshire\, PO10 7DD\, United Kingdom
CATEGORIES:Events,Exhibitions
ATTACH;FMTTYPE=image/jpeg:https://emsworthmuseum.org.uk/wp-content/uploads/2023/05/Coatal-Archaeology-fishtrap-1-scaled.jpg
END:VEVENT
BEGIN:VEVENT
DTSTART;TZID=Europe/London:20230504T193000
DTEND;TZID=Europe/London:20230504T210000
DTSTAMP:20260422T233626
CREATED:20230505T213024Z
LAST-MODIFIED:20231028T102923Z
UID:1708-1683228600-1683234000@emsworthmuseum.org.uk
SUMMARY:Talk - Portsmouth – Harlots\, Dung and Glory
DESCRIPTION:An illustrated talk by Andrew Negus \n\n\n\nThe Portsmouth talk is in four parts\, and covers the origin and development of the settlement from 1100 until today. Naturally its history is closely related to the growth of the Royal Navy and the Navy’s part in making the UK the most powerful country in the world by 1900. The talks introduce us to some of the many characters who have been involved in Portsmouth’s history including murderers\, harlots\, and the inventor of the umbrella. Kings\, queens\, admirals\, authors\, and actors will entertain us with their appearances. Part 1 Portsmouth 1100-1800. \n\n\n\nHarlots Dung and Glory\n\n\n\nTickets: You must book a ticket in advance to be sure of entry. Tickets are available for £5 each only from Bookends\, 7 High Street\, Emsworth\, PO10 7AQ. Seats are unreserved.
URL:https://emsworthmuseum.org.uk/event/portsmouth-harlots-dung-and-glory/
LOCATION:Emsworth Community Centre\, North Street\, Emsworth\, Hampshire\, PO10 7DD\, United Kingdom
CATEGORIES:Events,Talks
ATTACH;FMTTYPE=image/jpeg:https://emsworthmuseum.org.uk/wp-content/uploads/2023/05/Harlots-Dung-and-Glory.jpg
END:VEVENT
BEGIN:VEVENT
DTSTART;TZID=Europe/London:20230422T103000
DTEND;TZID=Europe/London:20230501T163000
DTSTAMP:20260422T233626
CREATED:20230514T204044Z
LAST-MODIFIED:20230830T135035Z
UID:1402-1682159400-1682958600@emsworthmuseum.org.uk
SUMMARY:Emsworth Arts Trail
DESCRIPTION:Ben Timmis will be displaying his photographs during all 5 days of the Art Trail: April 22nd\, 23rd\, 29th 30th\, and May 1stHe originally spent 4 months in a professional darkroom learning traditional photographic development and enlarging techniques before turning to digital photography in 2003.He is a semi-retired Consultant Radiologist and has been taking photographs for the past 60 years – now mainly around Emsworth where he lives with his wife Sue and dog Daisy. His photograph entitled “Isolated Together” was chosen by the National Portrait Gallery as one of the final 100 (out of over 31\,000 submitted) to represent Britain during the pandemic in a project called ‘Hold Still’. His photograph was included in a book commemorating the event and on an advertising board outside Waterloo Station in London. He was awarded Licentiate of The Royal Photographic Society in 2022.
URL:https://emsworthmuseum.org.uk/event/emsworth-arts-trail/
LOCATION:Hampshire
CATEGORIES:Events,Exhibitions
ATTACH;FMTTYPE=image/jpeg:https://emsworthmuseum.org.uk/wp-content/uploads/2023/05/Ben-Timmis-1-scaled.jpg
END:VEVENT
BEGIN:VEVENT
DTSTART;TZID=Europe/London:20230401T103000
DTEND;TZID=Europe/London:20230521T163000
DTSTAMP:20260422T233626
CREATED:20230514T210255Z
LAST-MODIFIED:20231028T103032Z
UID:1410-1680345000-1684686600@emsworthmuseum.org.uk
SUMMARY:Exhibition - Brickmaking in Emsworth and the Local Area
DESCRIPTION:Brickmaking in EmsworthBefore the widespread use of the internal combustion engine brick making was a localised activity. Seams of clay suitable for making bricks run through Emsworth\, Rowlands Castle and Hayling Island and they have been exploited since the Roman period. Often brick making was seasonal and incorporated into the annual farming cycle. This exhibition explains the traditional brick making process using photographs from the Pycroft brick making business on Hayling Island. The source of the bricks used to construct the Museum building is identified.Dates:April 1st\, 2nd\, 7th\, 8th\, 9th\, 10th\, 15th\, 16thMay 6th\, 7th\, 8th\, 13th\, 14th\, 20th\, 21st
URL:https://emsworthmuseum.org.uk/event/brickmaking-in-emsworth-and-the-local-area/
LOCATION:Emsworth Museum\, 10b North Street\, Emsworth\, Hampshire\, PO10 7DD\, United Kingdom
CATEGORIES:Events,Exhibitions
ATTACH;FMTTYPE=image/jpeg:https://emsworthmuseum.org.uk/wp-content/uploads/2023/05/Building-the-Kiln.jpg
END:VEVENT
BEGIN:VEVENT
DTSTART;TZID=Europe/London:20220910T103000
DTEND;TZID=Europe/London:20221030T163000
DTSTAMP:20260422T233626
CREATED:20230514T211232Z
LAST-MODIFIED:20231028T103129Z
UID:1414-1662805800-1667147400@emsworthmuseum.org.uk
SUMMARY:Exhibition - Living with War in Emsworth: The Valerie Bacon Diaries 1939-1945
DESCRIPTION:Personal diaries and letters are a valuable resource for looking into the past. Demonstrates the value of written diaries\, letters and annotated\, printed photographs as a research resource in a way that digitised diaries and social media may never be… if they survive!
URL:https://emsworthmuseum.org.uk/event/living-with-war-in-emsworth-the-valerie-bacon-diaries-1939-1945/
LOCATION:Emsworth Museum\, 10b North Street\, Emsworth\, Hampshire\, PO10 7DD\, United Kingdom
CATEGORIES:Events,Exhibitions
ATTACH;FMTTYPE=image/jpeg:https://emsworthmuseum.org.uk/wp-content/uploads/2023/05/Valerie-Bacon-image-from-Nigel-Gossop-22nd-June-2022.jpg
END:VEVENT
END:VCALENDAR